BEGIN:VCALENDAR
VERSION:2.0
PRODID:LFV Website-Kit
METHOD:PUBLISH
BEGIN:VEVENT
UID:lfv-e4407b5d-4c3e-443a-a007-9c59b96d2c3c
LOCATION:Am Feuerwehrhaus, Bernauer Straße 62, Prien a. Chiemsee
SUMMARY:Wein & Bier Fest
DESCRIPTION:Termin Link: http://prien.feuerwehren.bayern/aktuelles/termine/wein-bier-fest-2/
URL:http://prien.feuerwehren.bayern/aktuelles/termine/wein-bier-fest-2/
CLASS:PRIVATE
DTSTART;TZID=Europe/Berlin:20260523T180000
DTEND;TZID=Europe/Berlin:20260523T190000
DTSTAMP:20260422T131723Z
END:VEVENT
END:VCALENDAR