BEGIN:VCALENDAR
VERSION:2.0
PRODID:LFV Website-Kit
METHOD:PUBLISH
BEGIN:VEVENT
UID:lfv-4cdd2f8c-4213-463e-bfc3-5f18e7442b78
LOCATION:
SUMMARY:Jugend Übung
DESCRIPTION:Termin Link: http://prien.feuerwehren.bayern/aktuelles/termine/jugend-ubung-59/
URL:http://prien.feuerwehren.bayern/aktuelles/termine/jugend-ubung-59/
CLASS:PRIVATE
DTSTART;TZID=Europe/Berlin:20261216T180000
DTEND;TZID=Europe/Berlin:20261216T190000
DTSTAMP:20260422T133430Z
END:VEVENT
END:VCALENDAR