BEGIN:VCALENDAR
VERSION:2.0
PRODID:LFV Website-Kit
METHOD:PUBLISH
BEGIN:VEVENT
UID:lfv-debf8042-5187-4523-8890-bf1ed9d267e3
LOCATION:
SUMMARY:Jugend Übung
DESCRIPTION:Termin Link: http://prien.feuerwehren.bayern/aktuelles/termine/jugend-ubung-58/
URL:http://prien.feuerwehren.bayern/aktuelles/termine/jugend-ubung-58/
CLASS:PRIVATE
DTSTART;TZID=Europe/Berlin:20261202T180000
DTEND;TZID=Europe/Berlin:20261202T190000
DTSTAMP:20260422T092504Z
END:VEVENT
END:VCALENDAR