BEGIN:VCALENDAR
VERSION:2.0
PRODID:LFV Website-Kit
METHOD:PUBLISH
BEGIN:VEVENT
UID:lfv-63b72644-fa7b-4f04-93f8-0c57628ea54e
LOCATION:
SUMMARY:Jugend Übung
DESCRIPTION:Termin Link: http://prien.feuerwehren.bayern/aktuelles/termine/jugend-ubung-57/
URL:http://prien.feuerwehren.bayern/aktuelles/termine/jugend-ubung-57/
CLASS:PRIVATE
DTSTART;TZID=Europe/Berlin:20261118T180000
DTEND;TZID=Europe/Berlin:20261118T190000
DTSTAMP:20260422T061430Z
END:VEVENT
END:VCALENDAR