BEGIN:VCALENDAR
VERSION:2.0
PRODID:LFV Website-Kit
METHOD:PUBLISH
BEGIN:VEVENT
UID:lfv-e9831d6c-34e1-4bce-9199-b1bec3b048eb
LOCATION:
SUMMARY:Jugend Übung
DESCRIPTION:Termin Link: http://prien.feuerwehren.bayern/aktuelles/termine/jugend-ubung-56/
URL:http://prien.feuerwehren.bayern/aktuelles/termine/jugend-ubung-56/
CLASS:PRIVATE
DTSTART;TZID=Europe/Berlin:20261104T180000
DTEND;TZID=Europe/Berlin:20261104T190000
DTSTAMP:20260422T004657Z
END:VEVENT
END:VCALENDAR