BEGIN:VCALENDAR
VERSION:2.0
PRODID:LFV Website-Kit
METHOD:PUBLISH
BEGIN:VEVENT
UID:lfv-032f752b-2d49-4865-a30d-96b4c5ee22a8
LOCATION:
SUMMARY:Jugend Übung
DESCRIPTION:Termin Link: http://prien.feuerwehren.bayern/aktuelles/termine/jugend-ubung-55/
URL:http://prien.feuerwehren.bayern/aktuelles/termine/jugend-ubung-55/
CLASS:PRIVATE
DTSTART;TZID=Europe/Berlin:20261021T180000
DTEND;TZID=Europe/Berlin:20261021T190000
DTSTAMP:20260421T213227Z
END:VEVENT
END:VCALENDAR