BEGIN:VCALENDAR
VERSION:2.0
PRODID:LFV Website-Kit
METHOD:PUBLISH
BEGIN:VEVENT
UID:lfv-a5d93e38-ea91-454e-9420-115e016d5fbd
LOCATION:
SUMMARY:Jugend Übung
DESCRIPTION:Termin Link: http://prien.feuerwehren.bayern/aktuelles/termine/jugend-ubung-54/
URL:http://prien.feuerwehren.bayern/aktuelles/termine/jugend-ubung-54/
CLASS:PRIVATE
DTSTART;TZID=Europe/Berlin:20261007T180000
DTEND;TZID=Europe/Berlin:20261007T190000
DTSTAMP:20260421T125340Z
END:VEVENT
END:VCALENDAR