BEGIN:VCALENDAR
VERSION:2.0
PRODID:LFV Website-Kit
METHOD:PUBLISH
BEGIN:VEVENT
UID:lfv-f1796e67-09fc-4fc7-9546-19a480ef0f4b
LOCATION:
SUMMARY:Jugend Übung
DESCRIPTION:Termin Link: http://prien.feuerwehren.bayern/aktuelles/termine/jugend-ubung-53/
URL:http://prien.feuerwehren.bayern/aktuelles/termine/jugend-ubung-53/
CLASS:PRIVATE
DTSTART;TZID=Europe/Berlin:20260916T180000
DTEND;TZID=Europe/Berlin:20260916T190000
DTSTAMP:20260421T001923Z
END:VEVENT
END:VCALENDAR