BEGIN:VCALENDAR
VERSION:2.0
PRODID:LFV Website-Kit
METHOD:PUBLISH
BEGIN:VEVENT
UID:lfv-d550b9b0-6213-4362-b588-d808f924b1e3
LOCATION:
SUMMARY:Jugend Übung
DESCRIPTION:Termin Link: http://prien.feuerwehren.bayern/aktuelles/termine/jugend-ubung-52/
URL:http://prien.feuerwehren.bayern/aktuelles/termine/jugend-ubung-52/
CLASS:PRIVATE
DTSTART;TZID=Europe/Berlin:20260715T180000
DTEND;TZID=Europe/Berlin:20260715T190000
DTSTAMP:20260420T193112Z
END:VEVENT
END:VCALENDAR