BEGIN:VCALENDAR
VERSION:2.0
PRODID:LFV Website-Kit
METHOD:PUBLISH
BEGIN:VEVENT
UID:lfv-5805f35e-0a49-499f-abba-af2322464e0e
LOCATION:
SUMMARY:Jugend Übung
DESCRIPTION:Termin Link: http://prien.feuerwehren.bayern/aktuelles/termine/jugend-ubung-51/
URL:http://prien.feuerwehren.bayern/aktuelles/termine/jugend-ubung-51/
CLASS:PRIVATE
DTSTART;TZID=Europe/Berlin:20260701T180000
DTEND;TZID=Europe/Berlin:20260701T190000
DTSTAMP:20260420T143428Z
END:VEVENT
END:VCALENDAR