BEGIN:VCALENDAR
VERSION:2.0
PRODID:LFV Website-Kit
METHOD:PUBLISH
BEGIN:VEVENT
UID:lfv-abd7e5f2-153f-4dfa-b3ea-bbe278158dfc
LOCATION:
SUMMARY:Jugend Übung
DESCRIPTION:Termin Link: http://prien.feuerwehren.bayern/aktuelles/termine/jugend-ubung-50/
URL:http://prien.feuerwehren.bayern/aktuelles/termine/jugend-ubung-50/
CLASS:PRIVATE
DTSTART;TZID=Europe/Berlin:20260617T180000
DTEND;TZID=Europe/Berlin:20260617T190000
DTSTAMP:20260420T113203Z
END:VEVENT
END:VCALENDAR