BEGIN:VCALENDAR
VERSION:2.0
PRODID:LFV Website-Kit
METHOD:PUBLISH
BEGIN:VEVENT
UID:lfv-25340fc7-2df6-4591-bbc0-ccf4cf826616
LOCATION:
SUMMARY:Jugend Übung
DESCRIPTION:Termin Link: http://prien.feuerwehren.bayern/aktuelles/termine/jugend-ubung-49/
URL:http://prien.feuerwehren.bayern/aktuelles/termine/jugend-ubung-49/
CLASS:PRIVATE
DTSTART;TZID=Europe/Berlin:20260603T180000
DTEND;TZID=Europe/Berlin:20260603T190000
DTSTAMP:20260420T065759Z
END:VEVENT
END:VCALENDAR