BEGIN:VCALENDAR
VERSION:2.0
PRODID:LFV Website-Kit
METHOD:PUBLISH
BEGIN:VEVENT
UID:lfv-7430bb12-f347-45f6-9cba-ae08c1bc039b
LOCATION:
SUMMARY:Jugend Übung
DESCRIPTION:Termin Link: http://prien.feuerwehren.bayern/aktuelles/termine/jugend-ubung-48/
URL:http://prien.feuerwehren.bayern/aktuelles/termine/jugend-ubung-48/
CLASS:PRIVATE
DTSTART;TZID=Europe/Berlin:20260520T180000
DTEND;TZID=Europe/Berlin:20260520T190000
DTSTAMP:20260420T033842Z
END:VEVENT
END:VCALENDAR