BEGIN:VCALENDAR
VERSION:2.0
PRODID:LFV Website-Kit
METHOD:PUBLISH
BEGIN:VEVENT
UID:lfv-3ec1a8a1-f04c-48d6-b601-cfaafb872a0a
LOCATION:
SUMMARY:Jugend Übung
DESCRIPTION:Termin Link: http://prien.feuerwehren.bayern/aktuelles/termine/jugend-ubung-47/
URL:http://prien.feuerwehren.bayern/aktuelles/termine/jugend-ubung-47/
CLASS:PRIVATE
DTSTART;TZID=Europe/Berlin:20260506T180000
DTEND;TZID=Europe/Berlin:20260506T190000
DTSTAMP:20260420T021835Z
END:VEVENT
END:VCALENDAR