BEGIN:VCALENDAR
VERSION:2.0
PRODID:LFV Website-Kit
METHOD:PUBLISH
BEGIN:VEVENT
UID:lfv-90fde209-7bff-46be-8172-1c735451af6c
LOCATION:Feuerwehrhaus Prien Bernauer Straße 62
SUMMARY:Blaulichttag
DESCRIPTION:Besuche unseren Blaulichttag und lerne alle Rettungsorganisationen hautnah kennen!\n\nTermin Link: http://prien.feuerwehren.bayern/aktuelles/termine/blaulichttag/
URL:http://prien.feuerwehren.bayern/aktuelles/termine/blaulichttag/
CLASS:PRIVATE
DTSTART;TZID=Europe/Berlin:20260919T110000
DTEND;TZID=Europe/Berlin:20260919T120000
DTSTAMP:20260421T033641Z
END:VEVENT
END:VCALENDAR