BEGIN:VCALENDAR
VERSION:2.0
PRODID:LFV Website-Kit
METHOD:PUBLISH
BEGIN:VEVENT
UID:lfv-12ae1f77-5115-471f-9661-10155fd8fefd
LOCATION:
SUMMARY:Aktiven Übung
DESCRIPTION:Termin Link: http://prien.feuerwehren.bayern/aktuelles/termine/aktiven-ubung-99/
URL:http://prien.feuerwehren.bayern/aktuelles/termine/aktiven-ubung-99/
CLASS:PRIVATE
DTSTART;TZID=Europe/Berlin:20261216T193000
DTEND;TZID=Europe/Berlin:20261216T203000
DTSTAMP:20260422T133340Z
END:VEVENT
END:VCALENDAR