BEGIN:VCALENDAR
VERSION:2.0
PRODID:LFV Website-Kit
METHOD:PUBLISH
BEGIN:VEVENT
UID:lfv-c89e37e9-5725-4ebc-b2e4-d3ea52b54196
LOCATION:
SUMMARY:Aktiven Übung
DESCRIPTION:Termin Link: http://prien.feuerwehren.bayern/aktuelles/termine/aktiven-ubung-98/
URL:http://prien.feuerwehren.bayern/aktuelles/termine/aktiven-ubung-98/
CLASS:PRIVATE
DTSTART;TZID=Europe/Berlin:20261209T193000
DTEND;TZID=Europe/Berlin:20261209T203000
DTSTAMP:20260422T130156Z
END:VEVENT
END:VCALENDAR