BEGIN:VCALENDAR
VERSION:2.0
PRODID:LFV Website-Kit
METHOD:PUBLISH
BEGIN:VEVENT
UID:lfv-c3c9bccd-f10f-4555-a354-d766f9bb210e
LOCATION:
SUMMARY:Aktiven Übung
DESCRIPTION:Termin Link: http://prien.feuerwehren.bayern/aktuelles/termine/aktiven-ubung-97/
URL:http://prien.feuerwehren.bayern/aktuelles/termine/aktiven-ubung-97/
CLASS:PRIVATE
DTSTART;TZID=Europe/Berlin:20261202T193000
DTEND;TZID=Europe/Berlin:20261202T203000
DTSTAMP:20260422T111251Z
END:VEVENT
END:VCALENDAR