BEGIN:VCALENDAR
VERSION:2.0
PRODID:LFV Website-Kit
METHOD:PUBLISH
BEGIN:VEVENT
UID:lfv-14d167fc-721c-43f7-8657-d8423a18578d
LOCATION:
SUMMARY:Aktiven Übung
DESCRIPTION:Termin Link: http://prien.feuerwehren.bayern/aktuelles/termine/aktiven-ubung-96/
URL:http://prien.feuerwehren.bayern/aktuelles/termine/aktiven-ubung-96/
CLASS:PRIVATE
DTSTART;TZID=Europe/Berlin:20261118T193000
DTEND;TZID=Europe/Berlin:20261118T203000
DTSTAMP:20260422T075309Z
END:VEVENT
END:VCALENDAR