BEGIN:VCALENDAR
VERSION:2.0
PRODID:LFV Website-Kit
METHOD:PUBLISH
BEGIN:VEVENT
UID:lfv-9e50fd6c-c671-4b16-9ad8-8f0744ffcaee
LOCATION:
SUMMARY:Aktiven Übung
DESCRIPTION:Termin Link: http://prien.feuerwehren.bayern/aktuelles/termine/aktiven-ubung-95/
URL:http://prien.feuerwehren.bayern/aktuelles/termine/aktiven-ubung-95/
CLASS:PRIVATE
DTSTART;TZID=Europe/Berlin:20261111T193000
DTEND;TZID=Europe/Berlin:20261111T203000
DTSTAMP:20260422T041741Z
END:VEVENT
END:VCALENDAR