BEGIN:VCALENDAR
VERSION:2.0
PRODID:LFV Website-Kit
METHOD:PUBLISH
BEGIN:VEVENT
UID:lfv-3517ac0c-ccdc-4850-b7c7-13dfbebe0145
LOCATION:
SUMMARY:Aktiven Übung
DESCRIPTION:Termin Link: http://prien.feuerwehren.bayern/aktuelles/termine/aktiven-ubung-94/
URL:http://prien.feuerwehren.bayern/aktuelles/termine/aktiven-ubung-94/
CLASS:PRIVATE
DTSTART;TZID=Europe/Berlin:20261104T193000
DTEND;TZID=Europe/Berlin:20261104T203000
DTSTAMP:20260422T024713Z
END:VEVENT
END:VCALENDAR