BEGIN:VCALENDAR
VERSION:2.0
PRODID:LFV Website-Kit
METHOD:PUBLISH
BEGIN:VEVENT
UID:lfv-4faca416-9d93-4158-9397-6dee94583d58
LOCATION:
SUMMARY:Aktiven Übung
DESCRIPTION:Termin Link: http://prien.feuerwehren.bayern/aktuelles/termine/aktiven-ubung-93/
URL:http://prien.feuerwehren.bayern/aktuelles/termine/aktiven-ubung-93/
CLASS:PRIVATE
DTSTART;TZID=Europe/Berlin:20261021T193000
DTEND;TZID=Europe/Berlin:20261021T203000
DTSTAMP:20260421T231417Z
END:VEVENT
END:VCALENDAR