BEGIN:VCALENDAR
VERSION:2.0
PRODID:LFV Website-Kit
METHOD:PUBLISH
BEGIN:VEVENT
UID:lfv-728d28d6-8fab-4f84-8000-1ee0e6863d25
LOCATION:
SUMMARY:Aktiven Übung
DESCRIPTION:Termin Link: http://prien.feuerwehren.bayern/aktuelles/termine/aktiven-ubung-92/
URL:http://prien.feuerwehren.bayern/aktuelles/termine/aktiven-ubung-92/
CLASS:PRIVATE
DTSTART;TZID=Europe/Berlin:20261014T193000
DTEND;TZID=Europe/Berlin:20261014T203000
DTSTAMP:20260421T194920Z
END:VEVENT
END:VCALENDAR