BEGIN:VCALENDAR
VERSION:2.0
PRODID:LFV Website-Kit
METHOD:PUBLISH
BEGIN:VEVENT
UID:lfv-09b6facf-1a74-4a3f-863d-5412ea8bd356
LOCATION:
SUMMARY:Aktiven Übung
DESCRIPTION:Termin Link: http://prien.feuerwehren.bayern/aktuelles/termine/aktiven-ubung-91/
URL:http://prien.feuerwehren.bayern/aktuelles/termine/aktiven-ubung-91/
CLASS:PRIVATE
DTSTART;TZID=Europe/Berlin:20261007T193000
DTEND;TZID=Europe/Berlin:20261007T203000
DTSTAMP:20260421T182132Z
END:VEVENT
END:VCALENDAR