BEGIN:VCALENDAR
VERSION:2.0
PRODID:LFV Website-Kit
METHOD:PUBLISH
BEGIN:VEVENT
UID:lfv-fac8af29-7835-411a-a233-16052adb0b72
LOCATION:
SUMMARY:Aktiven Übung
DESCRIPTION:Termin Link: http://prien.feuerwehren.bayern/aktuelles/termine/aktiven-ubung-89/
URL:http://prien.feuerwehren.bayern/aktuelles/termine/aktiven-ubung-89/
CLASS:PRIVATE
DTSTART;TZID=Europe/Berlin:20260923T193000
DTEND;TZID=Europe/Berlin:20260923T203000
DTSTAMP:20260421T052606Z
END:VEVENT
END:VCALENDAR