BEGIN:VCALENDAR
VERSION:2.0
PRODID:LFV Website-Kit
METHOD:PUBLISH
BEGIN:VEVENT
UID:lfv-55c80c36-7808-4a43-8553-38084e6b0546
LOCATION:
SUMMARY:Aktiven Übung
DESCRIPTION:Termin Link: http://prien.feuerwehren.bayern/aktuelles/termine/aktiven-ubung-88/
URL:http://prien.feuerwehren.bayern/aktuelles/termine/aktiven-ubung-88/
CLASS:PRIVATE
DTSTART;TZID=Europe/Berlin:20260916T193000
DTEND;TZID=Europe/Berlin:20260916T203000
DTSTAMP:20260421T020133Z
END:VEVENT
END:VCALENDAR