BEGIN:VCALENDAR
VERSION:2.0
PRODID:LFV Website-Kit
METHOD:PUBLISH
BEGIN:VEVENT
UID:lfv-f9a55a7a-db0a-462a-9eea-87f422b28d1b
LOCATION:
SUMMARY:Aktiven Übung
DESCRIPTION:Termin Link: http://prien.feuerwehren.bayern/aktuelles/termine/aktiven-ubung-87/
URL:http://prien.feuerwehren.bayern/aktuelles/termine/aktiven-ubung-87/
CLASS:PRIVATE
DTSTART;TZID=Europe/Berlin:20260722T193000
DTEND;TZID=Europe/Berlin:20260722T203000
DTSTAMP:20260420T224910Z
END:VEVENT
END:VCALENDAR