BEGIN:VCALENDAR
VERSION:2.0
PRODID:LFV Website-Kit
METHOD:PUBLISH
BEGIN:VEVENT
UID:lfv-633104fd-4e5c-45ac-b577-4390d9b6ccc0
LOCATION:
SUMMARY:Aktiven Übung
DESCRIPTION:Termin Link: http://prien.feuerwehren.bayern/aktuelles/termine/aktiven-ubung-86/
URL:http://prien.feuerwehren.bayern/aktuelles/termine/aktiven-ubung-86/
CLASS:PRIVATE
DTSTART;TZID=Europe/Berlin:20260715T193000
DTEND;TZID=Europe/Berlin:20260715T203000
DTSTAMP:20260420T211043Z
END:VEVENT
END:VCALENDAR