BEGIN:VCALENDAR
VERSION:2.0
PRODID:LFV Website-Kit
METHOD:PUBLISH
BEGIN:VEVENT
UID:lfv-07131894-9bc3-4989-ad06-891331270478
LOCATION:
SUMMARY:Aktiven Übung
DESCRIPTION:Termin Link: http://prien.feuerwehren.bayern/aktuelles/termine/aktiven-ubung-84/
URL:http://prien.feuerwehren.bayern/aktuelles/termine/aktiven-ubung-84/
CLASS:PRIVATE
DTSTART;TZID=Europe/Berlin:20260701T193000
DTEND;TZID=Europe/Berlin:20260701T203000
DTSTAMP:20260420T162607Z
END:VEVENT
END:VCALENDAR