BEGIN:VCALENDAR
VERSION:2.0
PRODID:LFV Website-Kit
METHOD:PUBLISH
BEGIN:VEVENT
UID:lfv-02e85947-5f71-43d2-b29f-962e2d8d3cb4
LOCATION:
SUMMARY:Aktiven Übung
DESCRIPTION:Termin Link: http://prien.feuerwehren.bayern/aktuelles/termine/aktiven-ubung-83/
URL:http://prien.feuerwehren.bayern/aktuelles/termine/aktiven-ubung-83/
CLASS:PRIVATE
DTSTART;TZID=Europe/Berlin:20260617T193000
DTEND;TZID=Europe/Berlin:20260617T203000
DTSTAMP:20260420T130618Z
END:VEVENT
END:VCALENDAR