BEGIN:VCALENDAR
VERSION:2.0
PRODID:LFV Website-Kit
METHOD:PUBLISH
BEGIN:VEVENT
UID:lfv-908fe2c3-6fe2-43c0-9a84-d7ef05c2d428
LOCATION:
SUMMARY:Aktiven Übung
DESCRIPTION:Termin Link: http://prien.feuerwehren.bayern/aktuelles/termine/aktiven-ubung-82/
URL:http://prien.feuerwehren.bayern/aktuelles/termine/aktiven-ubung-82/
CLASS:PRIVATE
DTSTART;TZID=Europe/Berlin:20260610T193000
DTEND;TZID=Europe/Berlin:20260610T203000
DTSTAMP:20260420T095732Z
END:VEVENT
END:VCALENDAR