BEGIN:VCALENDAR
VERSION:2.0
PRODID:LFV Website-Kit
METHOD:PUBLISH
BEGIN:VEVENT
UID:lfv-b5553ec9-96ba-4895-8758-a6c138d066fe
LOCATION:
SUMMARY:Aktiven Übung
DESCRIPTION:Termin Link: http://prien.feuerwehren.bayern/aktuelles/termine/aktiven-ubung-81/
URL:http://prien.feuerwehren.bayern/aktuelles/termine/aktiven-ubung-81/
CLASS:PRIVATE
DTSTART;TZID=Europe/Berlin:20260603T193000
DTEND;TZID=Europe/Berlin:20260603T203000
DTSTAMP:20260420T083834Z
END:VEVENT
END:VCALENDAR