BEGIN:VCALENDAR
VERSION:2.0
PRODID:LFV Website-Kit
METHOD:PUBLISH
BEGIN:VEVENT
UID:lfv-1c38b614-9b1c-45dd-8e5e-3116556e535e
LOCATION:
SUMMARY:Aktiven Übung
DESCRIPTION:Termin Link: http://prien.feuerwehren.bayern/aktuelles/termine/aktiven-ubung-80/
URL:http://prien.feuerwehren.bayern/aktuelles/termine/aktiven-ubung-80/
CLASS:PRIVATE
DTSTART;TZID=Europe/Berlin:20260520T193000
DTEND;TZID=Europe/Berlin:20260520T203000
DTSTAMP:20260420T051545Z
END:VEVENT
END:VCALENDAR