BEGIN:VCALENDAR
VERSION:2.0
PRODID:LFV Website-Kit
METHOD:PUBLISH
BEGIN:VEVENT
UID:lfv-430f5e9e-7b06-4b24-8375-ad5014580944
LOCATION:
SUMMARY:Aktiven Übung
DESCRIPTION:Termin Link: http://prien.feuerwehren.bayern/aktuelles/termine/aktiven-ubung-79/
URL:http://prien.feuerwehren.bayern/aktuelles/termine/aktiven-ubung-79/
CLASS:PRIVATE
DTSTART;TZID=Europe/Berlin:20260513T193000
DTEND;TZID=Europe/Berlin:20260513T203000
DTSTAMP:20260420T021956Z
END:VEVENT
END:VCALENDAR