BEGIN:VCALENDAR
VERSION:2.0
PRODID:LFV Website-Kit
METHOD:PUBLISH
BEGIN:VEVENT
UID:lfv-f60815ac-26c6-4294-8880-b5fcc4acaed9
LOCATION:
SUMMARY:Aktiven Übung
DESCRIPTION:Termin Link: http://prien.feuerwehren.bayern/aktuelles/termine/aktiven-ubung-78/
URL:http://prien.feuerwehren.bayern/aktuelles/termine/aktiven-ubung-78/
CLASS:PRIVATE
DTSTART;TZID=Europe/Berlin:20260506T193000
DTEND;TZID=Europe/Berlin:20260506T203000
DTSTAMP:20260420T021846Z
END:VEVENT
END:VCALENDAR